BEGIN:VCALENDAR
VERSION:2.0
PRODID:-//Pioneer Valley Planning Commission - ECPv6.15.20//NONSGML v1.0//EN
CALSCALE:GREGORIAN
METHOD:PUBLISH
X-WR-CALNAME:Pioneer Valley Planning Commission
X-ORIGINAL-URL:https://pvpc.org
X-WR-CALDESC:Events for Pioneer Valley Planning Commission
REFRESH-INTERVAL;VALUE=DURATION:PT1H
X-Robots-Tag:noindex
X-PUBLISHED-TTL:PT1H
BEGIN:VTIMEZONE
TZID:America/Halifax
BEGIN:DAYLIGHT
TZOFFSETFROM:-0400
TZOFFSETTO:-0300
TZNAME:ADT
DTSTART:20250309T060000
END:DAYLIGHT
BEGIN:STANDARD
TZOFFSETFROM:-0300
TZOFFSETTO:-0400
TZNAME:AST
DTSTART:20251102T050000
END:STANDARD
BEGIN:DAYLIGHT
TZOFFSETFROM:-0400
TZOFFSETTO:-0300
TZNAME:ADT
DTSTART:20260308T060000
END:DAYLIGHT
BEGIN:STANDARD
TZOFFSETFROM:-0300
TZOFFSETTO:-0400
TZNAME:AST
DTSTART:20261101T050000
END:STANDARD
BEGIN:DAYLIGHT
TZOFFSETFROM:-0400
TZOFFSETTO:-0300
TZNAME:ADT
DTSTART:20270314T060000
END:DAYLIGHT
BEGIN:STANDARD
TZOFFSETFROM:-0300
TZOFFSETTO:-0400
TZNAME:AST
DTSTART:20271107T050000
END:STANDARD
END:VTIMEZONE
BEGIN:VEVENT
DTSTART;TZID=America/Halifax:20260325T173000
DTEND;TZID=America/Halifax:20260325T200000
DTSTAMP:20260425T095010
CREATED:20260311T013734Z
LAST-MODIFIED:20260311T013734Z
UID:15530-1774459800-1774468800@pvpc.org
SUMMARY:Hampshire County Housing Forum
DESCRIPTION:
URL:https://pvpc.org/event/hampshire-county-housing-forum/
LOCATION:University of Massachusetts Amherst Old Chapel\, 144 Hicks Way\, Amherst\, MA\, 01003\, United States
CATEGORIES:Events
END:VEVENT
END:VCALENDAR