BEGIN:VCALENDAR
VERSION:2.0
PRODID:-//Pioneer Valley Planning Commission - ECPv6.15.20//NONSGML v1.0//EN
CALSCALE:GREGORIAN
METHOD:PUBLISH
X-WR-CALNAME:Pioneer Valley Planning Commission
X-ORIGINAL-URL:https://pvpc.org
X-WR-CALDESC:Events for Pioneer Valley Planning Commission
REFRESH-INTERVAL;VALUE=DURATION:PT1H
X-Robots-Tag:noindex
X-PUBLISHED-TTL:PT1H
BEGIN:VTIMEZONE
TZID:America/Halifax
BEGIN:DAYLIGHT
TZOFFSETFROM:-0400
TZOFFSETTO:-0300
TZNAME:ADT
DTSTART:20250309T060000
END:DAYLIGHT
BEGIN:STANDARD
TZOFFSETFROM:-0300
TZOFFSETTO:-0400
TZNAME:AST
DTSTART:20251102T050000
END:STANDARD
BEGIN:DAYLIGHT
TZOFFSETFROM:-0400
TZOFFSETTO:-0300
TZNAME:ADT
DTSTART:20260308T060000
END:DAYLIGHT
BEGIN:STANDARD
TZOFFSETFROM:-0300
TZOFFSETTO:-0400
TZNAME:AST
DTSTART:20261101T050000
END:STANDARD
BEGIN:DAYLIGHT
TZOFFSETFROM:-0400
TZOFFSETTO:-0300
TZNAME:ADT
DTSTART:20270314T060000
END:DAYLIGHT
BEGIN:STANDARD
TZOFFSETFROM:-0300
TZOFFSETTO:-0400
TZNAME:AST
DTSTART:20271107T050000
END:STANDARD
END:VTIMEZONE
BEGIN:VEVENT
DTSTART;TZID=America/Halifax:20260318T173000
DTEND;TZID=America/Halifax:20260318T200000
DTSTAMP:20260425T100334
CREATED:20260311T011028Z
LAST-MODIFIED:20260311T012430Z
UID:15527-1773855000-1773864000@pvpc.org
SUMMARY:Hampden County Housing Forum
DESCRIPTION: \n\n\n 
URL:https://pvpc.org/event/hampden-county-housing-forum/
LOCATION:Holyoke Community College Kittredge Center\, 303 Homestead Avenue\, Holyoke\, MA\, 01040\, United States
CATEGORIES:Events
END:VEVENT
END:VCALENDAR